BEGIN:VCALENDAR
METHOD:PUBLISH
PRODID:-//github.com/rianjs/ical.net//NONSGML ical.net 4.0//EN
VERSION:2.0
BEGIN:VTIMEZONE
TZID:America/Indiana/Indianapolis
X-LIC-LOCATION:America/Indiana/Indianapolis
BEGIN:STANDARD
DTSTART:20241103T020000
RRULE:FREQ=YEARLY;BYDAY=1SU;BYMONTH=11
TZNAME:EST
TZOFFSETFROM:-0400
TZOFFSETTO:-0500
END:STANDARD
BEGIN:DAYLIGHT
DTSTART:20250309T020000
RRULE:FREQ=YEARLY;BYDAY=2SU;BYMONTH=3
TZNAME:EDT
TZOFFSETFROM:-0500
TZOFFSETTO:-0400
END:DAYLIGHT
END:VTIMEZONE
BEGIN:VEVENT
DESCRIPTION;LANGUAGE=en-US:Standard Meeting\nhttps://www.waynecountymi.gov
 /Government/Elected-Officials/Commission/Committees/Special-Committees-Ta
 sk-Forces/Special-Committee-Meetings/2026/Ethics-Task-Force/Ethics-Task-F
 orce-September-3-2026
DTEND:20260903T140000
DTSTAMP:20260426T030436Z
DTSTART:20260903T130000
GEO:42.329527;-83.046080
LOCATION:7th Floor Conference Room\, 500 Griswold\, Detroit\, MI 48226
SEQUENCE:0
SUMMARY;LANGUAGE=en-US:03 Sep 2026 - Ethics Task Force
UID:OpenCities.fb8954aa-82ed-48ad-9434-6c3d7fcf7fc3.03002026130900
BEGIN:VALARM
ACTION:DISPLAY
DESCRIPTION:Reminder
DURATION:P0D
TRIGGER:P0D
END:VALARM
END:VEVENT
END:VCALENDAR
