BEGIN:VCALENDAR
METHOD:PUBLISH
PRODID:-//github.com/rianjs/ical.net//NONSGML ical.net 4.0//EN
VERSION:2.0
BEGIN:VTIMEZONE
TZID:America/Indiana/Indianapolis
X-LIC-LOCATION:America/Indiana/Indianapolis
BEGIN:STANDARD
DTSTART:20241103T020000
RRULE:FREQ=YEARLY;BYDAY=1SU;BYMONTH=11
TZNAME:EST
TZOFFSETFROM:-0400
TZOFFSETTO:-0500
END:STANDARD
BEGIN:DAYLIGHT
DTSTART:20250309T020000
RRULE:FREQ=YEARLY;BYDAY=2SU;BYMONTH=3
TZNAME:EDT
TZOFFSETFROM:-0500
TZOFFSETTO:-0400
END:DAYLIGHT
END:VTIMEZONE
BEGIN:VEVENT
DESCRIPTION;LANGUAGE=en-US:Regular Meeting.\nhttps://www.waynecountymi.gov
 /Government/Elected-Officials/Commission/Committees/Full-Commission/Full-
 Commission-Meetings/2026/Wayne-County-Commission-April-30-2026
DTEND:20260430T110000
DTSTAMP:20260425T001531Z
DTSTART:20260430T100000
GEO:42.329629;-83.046126
LOCATION:Commission Chambers\, Mezzanine\, Guardian Building\, 500 Griswol
 d\, Detroit\, MI
SEQUENCE:0
SUMMARY;LANGUAGE=en-US:30 Apr 2026 - Full Commission
UID:OpenCities.d07a3238-262d-4a8d-a9b9-70b6238840b9.30002026100400
BEGIN:VALARM
ACTION:DISPLAY
DESCRIPTION:Reminder
DURATION:P0D
TRIGGER:P0D
END:VALARM
END:VEVENT
END:VCALENDAR
